BEGIN:VCALENDAR
VERSION:2.0
PRODID:-//Arch &amp; Beans - ECPv6.1.3//NONSGML v1.0//EN
CALSCALE:GREGORIAN
METHOD:PUBLISH
X-ORIGINAL-URL:https://archandbeans.com
X-WR-CALDESC:Events for Arch &amp; Beans
REFRESH-INTERVAL;VALUE=DURATION:PT1H
X-Robots-Tag:noindex
X-PUBLISHED-TTL:PT1H
BEGIN:VTIMEZONE
TZID:UTC
BEGIN:STANDARD
TZOFFSETFROM:+0000
TZOFFSETTO:+0000
TZNAME:UTC
DTSTART:20220101T000000
END:STANDARD
END:VTIMEZONE
BEGIN:VEVENT
DTSTART;TZID=UTC:20220421T160000
DTEND;TZID=UTC:20220421T180000
DTSTAMP:20260421T210617
CREATED:20220406T122606Z
LAST-MODIFIED:20220412T101205Z
UID:4609-1650556800-1650564000@archandbeans.com
SUMMARY:Kávés Műhelybeszélgetés
DESCRIPTION:Várunk szeretettel az ötödik beszélgetésre mindenkit\, aki érdeklődik a magyarországi kávés szakmaiság iránt.\nFő témánk: Merre halad a kávés szakma?\nA beszélgetés ízjegye: elgondolkodtató.\nBeszélgetőtársainkat\, Várady Tibort (Espresso Embasy) és Radics Gábort (Cafe Memories) arról faggatjuk\, hogy ha ma szeretnének kávézót nyitni\, kávéval foglalkozni. Hogyan vágnának bele\, mit hoznának magukkal az elmúlt évek tapasztalataiból\, illetve milyen új kihívásokat látnak a tapasztalataik alapján?\nHogyan vázolnák fel az elmúlt évek legfontosabb kávés szakmai tapasztalatait? Miben látják a közeljövő legfontosabb kihívásait? Milyen kávét\, gépet\, staffot választanának? Hol nyitnának kávézót egyáltalán?\nFeldolgozása: Moderált by Horváth Attila\, A&B pörkölőmester.\nEz a termék konkrét véleményeket tartalmaz!\nA 45 perces “moderált” beszélgetést kötetlen eszmecsere és kóstolás követi.\nSzeretnénk\, ha a résztvevők bátran bekapcsolódnának a beszélgetésbe\, amit természetesen egy csésze kávéval indítunk!\n1000 Huf a beugró\, mely tartalmazza a welcome brew-t!
URL:https://archandbeans.com/esemeny/kaves-muhelybeszelgetes-2022-04-15/
LOCATION:Arch&Beans Kávéművek\, Rákóczi út 5.\, Budapest\, 1088\, Magyarország
CATEGORIES:Műhelybeszélgetés
ATTACH;FMTTYPE=image/jpeg:https://archandbeans.com/wp-content/uploads/2022/04/kerekasztal.jpg
END:VEVENT
END:VCALENDAR