BEGIN:VCALENDAR
VERSION:2.0
PRODID:-//Arch &amp; Beans - ECPv6.1.3//NONSGML v1.0//EN
CALSCALE:GREGORIAN
METHOD:PUBLISH
X-WR-CALNAME:Arch &amp; Beans
X-ORIGINAL-URL:https://archandbeans.com
X-WR-CALDESC:Events for Arch &amp; Beans
REFRESH-INTERVAL;VALUE=DURATION:PT1H
X-Robots-Tag:noindex
X-PUBLISHED-TTL:PT1H
BEGIN:VTIMEZONE
TZID:UTC
BEGIN:STANDARD
TZOFFSETFROM:+0000
TZOFFSETTO:+0000
TZNAME:UTC
DTSTART:20220101T000000
END:STANDARD
END:VTIMEZONE
BEGIN:VEVENT
DTSTART;TZID=UTC:20220908T160000
DTEND;TZID=UTC:20220908T180000
DTSTAMP:20260421T115650
CREATED:20220406T122715Z
LAST-MODIFIED:20220830T124553Z
UID:4612-1662652800-1662660000@archandbeans.com
SUMMARY:Kávés Műhelybeszélgetés 8.
DESCRIPTION:Kötetlen beszélgetés a kávéról\, kávézásról\, kávékultúráról szakmabeliekkel – nem csak szakmabelieknek. \nVárunk szeretettel évadnyitó 8. beszélgetésre mindenkit\, aki érdeklődik a magyarországi kávés szakmaiság iránt.\nTémánk: Gasztro fotó/videó/blog – minden\, ami az online jelenléthez kell!\nVendégeink: Dajkó Krisztián és Ábrahám Dávid tartalomkészítők.\nA 45 perces “moderált” beszélgetés ezúttal az online térben való jelenléthez nélkülözhetetlen tartalmak készítése körül forog\, amit kötetlen eszmecsere és kávékóstolás követ.\nSzeretnénk\, ha a résztvevők bátran bekapcsolódnának a beszélgetésbe\, amit természetesen egy csésze kávéval indítunk!\n1000 Huf a beugró\, mely tartalmazza a welcome brew-t!
URL:https://archandbeans.com/esemeny/kaves-muhelybeszelgetes-2022-04-01/
LOCATION:Arch&Beans Kávéművek\, Rákóczi út 5.\, Budapest\, 1088\, Magyarország
CATEGORIES:Műhelybeszélgetés
ATTACH;FMTTYPE=image/jpeg:https://archandbeans.com/wp-content/uploads/2022/04/kerekasztal.jpg
END:VEVENT
END:VCALENDAR