BEGIN:VCALENDAR
VERSION:2.0
PRODID:-//Arch &amp; Beans - ECPv6.1.3//NONSGML v1.0//EN
CALSCALE:GREGORIAN
METHOD:PUBLISH
X-ORIGINAL-URL:https://archandbeans.com
X-WR-CALDESC:Events for Arch &amp; Beans
REFRESH-INTERVAL;VALUE=DURATION:PT1H
X-Robots-Tag:noindex
X-PUBLISHED-TTL:PT1H
BEGIN:VTIMEZONE
TZID:Europe/Helsinki
BEGIN:DAYLIGHT
TZOFFSETFROM:+0200
TZOFFSETTO:+0300
TZNAME:EEST
DTSTART:20230326T010000
END:DAYLIGHT
BEGIN:STANDARD
TZOFFSETFROM:+0300
TZOFFSETTO:+0200
TZNAME:EET
DTSTART:20231029T010000
END:STANDARD
END:VTIMEZONE
BEGIN:VEVENT
DTSTART;TZID=Europe/Helsinki:20230611T100000
DTEND;TZID=Europe/Helsinki:20230611T120000
DTSTAMP:20260420T185124
CREATED:20230608T142743Z
LAST-MODIFIED:20230628T152453Z
UID:5542-1686477600-1686484800@archandbeans.com
SUMMARY:Cupping Club - Vezetett kávékóstolás
DESCRIPTION:Szeretnél egy igazi kávéházi környezetben különleges kávékat kóstolni? Ezen felül szeretnél eszmét cserélni a kávékról\, kávékészítésről? Akkor itt a helyed!\n\n\nMindegy\, hogy naponta százszámra készítesz kávékat egy La Marzocco mögött\, vagy otthon bűvölöd a Gaggia-t\, vagy szenvedélyesen filterezel\, vagy akár csak most ismerkedsz a specialty kávék világával\, egy érdekes élményben lesz részed.\nHozz egy specialty kávét\, bedobjuk a közösbe és összehasonlítjuk őket.\nElég csak élvezd a kávékat\, de ha igazán érdekel\, akkor akár pontozhatsz is.\nÉs ami biztosan lesz: kötetlen beszélgetés minden mennyiségben és bármilyen kávés témában.\n\n\n***** A program rövid ismertetése *****\n10:00-10:10 Érkezés kávéval. Ha hozol kávét\, akkor próbálj meg mindenképp az esemény elején érkezni a kóstolandó kávék kiválasztása miatt.\n10:10-10:30 Kóstolásra kerülő kávék kiválasztása\, cupping sor felállítása\, kávék őrlése.\n10:30-11:00 Kávék felöntése\, kóstolása\, értékelése.\n11:00- Kötetlen beszélgetés.\n\n\n***** A kóstolás menete *****\n2 sorban 9-9 mintát fogunk kóstolni. Így biztosítva azt\, hogy egyrészről nagy számú mintát kóstolhassunk\, ugyanakkor mindenki kellő időben a csészéhez kerülhessen.\nA cupping csészékbe 12 g kávét mérünk\, melyet a filternél finomabbra őrlünk. Ezt követően a csészéket 200 g forró vízzel felöntjük.\n4 perc után megtörjük\, majd leszedjük a felöntés tetején képződő kérget.\nA kávé italokat 12 perc után kóstoljuk a következő módon: A cupping csészékhez elhelyezett kanállal mindenki a saját ivó csészéjébe meri az italt\, majd onnan szürcsölve vesszük a szánkba és ízleljük.\n\n\n***** Mit hozz? *****\n– Mindenképp hozz magadnak egy olyan csészét\, amiből könnyen tudsz szürcsölve inni kisebb mennyiségű folyadékot.\n– Ha tudsz\, akkor hozhatsz 2 adagnyi specialty kávét (25-30g). Ha már látod\, hogy milyen kávét hoznál\, akkor beszélgetésbe bedobhatod\, hogy akár előtte utána lehessen nézni.\n\n\n***** Részvétel\, jelentkezés *****\nHa részt vennél az eseményen\, akkor jelöld be a Facebook-eseményünknél\, hogy “Ott leszek”.\nHa még bizonytalan vagy\, akkor jelöld be\, hogy “Érdekel”.\nA kóstoláson történő részvétel ingyenes.\n\n\n***** Visszatekintés *****\nÉrdekel\, hogy milyenek voltak a korábbi események\, milyen kávékat kóstoltunk? Akkor nézd meg a korábbi eseményeket és a hozzá kapcsolódó posztokat:\n#1 https://fb.me/e/2cx8CD3rC\n#2 https://fb.me/e/5hD1qc1sL\n#3 https://fb.me/e/4aVnP00lq\n#4 https://fb.me/e/4aowpHc4e\n#5 https://fb.me/e/fmw26j2bM\n#6 https://fb.me/e/3vW4xqqnD\n#7 https://fb.me/e/12SKTvtM2\n\n\n***** English disclaimer *****\nWe cannot guarantee a simultaneous English speaking guidance but we are happy to welcome our foreign friends and will discuss with them the coffee-facts on demand.
URL:https://archandbeans.com/esemeny/cupping-club-vezetett-kavekostolas/
LOCATION:Arch&Beans Kávéművek\, Rákóczi út 5.\, Budapest\, 1088\, Magyarország
ATTACH;FMTTYPE=image/jpeg:https://archandbeans.com/wp-content/uploads/2023/06/CC.jpg
ORGANIZER;CN="Arch%26Beans%20K%C3%A1v%C3%A9m%C5%B1vek":MAILTO:info@archandbeans.com
END:VEVENT
END:VCALENDAR