BEGIN:VCALENDAR
VERSION:2.0
PRODID:-//Arch &amp; Beans - ECPv6.1.3//NONSGML v1.0//EN
CALSCALE:GREGORIAN
METHOD:PUBLISH
X-WR-CALNAME:Arch &amp; Beans
X-ORIGINAL-URL:https://archandbeans.com
X-WR-CALDESC:Events for Arch &amp; Beans
REFRESH-INTERVAL;VALUE=DURATION:PT1H
X-Robots-Tag:noindex
X-PUBLISHED-TTL:PT1H
BEGIN:VTIMEZONE
TZID:Europe/Helsinki
BEGIN:DAYLIGHT
TZOFFSETFROM:+0200
TZOFFSETTO:+0300
TZNAME:EEST
DTSTART:20230326T010000
END:DAYLIGHT
BEGIN:STANDARD
TZOFFSETFROM:+0300
TZOFFSETTO:+0200
TZNAME:EET
DTSTART:20231029T010000
END:STANDARD
END:VTIMEZONE
BEGIN:VEVENT
DTSTART;TZID=Europe/Helsinki:20230702T100000
DTEND;TZID=Europe/Helsinki:20230702T120000
DTSTAMP:20260420T184907
CREATED:20230612T224310Z
LAST-MODIFIED:20230628T152330Z
UID:5545-1688292000-1688299200@archandbeans.com
SUMMARY:Cupping Club No. 9 - World of Coffee Athens
DESCRIPTION:Szeretnél egy igazi kávéházi környezetben különleges kávékat kóstolni? Ezen felül szeretnél eszmét cserélni a kávékról\, kávékészítésről? Akkor itt a helyed! Kilencedik alkalmunkon ráadásul a World of Coffee Athens kávéit kóstolhatod\, és egy kerekasztal-beszélgetéssel is egybekötjük az eseményt\, hogy a legteljesebb élményben lehessen részed. Ha ott voltál június végén Athénban akkor azért\, ha kihagytad\, akkor azért gyere el. 😉\n\n\n***** A tervezett program rövid ismertetése *****\n10:00-10:40 Kerekasztal-beszélgetés az athéni tapasztalatokról\, élményekről\n10:40-11:00 Kávék őrlése\, bemutatása\n11:00-11:30 Kávék felöntése\, kóstolása\, értékelése\n11:30- Kötetlen beszélgetés\n\n\n***** A kóstolás tervezett menete *****\n2 sorban 13-15 tételt fogunk cuppingolni\, így biztosítva azt\, hogy egyrészről nagy számú mintát kóstolhassunk\, ugyanakkor mindenki kellő időben a csészéhez kerülhessen.\nA cupping csészékbe 12 g kávét mérünk\, melyet a filternél finomabbra őrlünk. Ezt követően a csészéket 200 g forró vízzel felöntjük.\n4 perc után megtörjük\, majd leszedjük a felöntés tetején képződő crust (kéreg) réteget.\nA kávé italokat 12 perc után kóstoljuk a következő módon: A cupping csészékhez elhelyezett kanállal mindenki a saját ivó csészéjébe meri az italt\, majd onnan szürcsölve vesszük a szánkba és ízleljük.\n\n\n***** Mit hozz? *****\nMindenképp hozz magadnak egy olyan csészét\, amiből könnyen tudsz szürcsölve inni kisebb mennyiségű folyadékot.\n\n\n***** Részvétel\, jelentkezés *****\nHa részt vennél az eseményen\, akkor jelöld be a Facebook-eseményünknél\, hogy “Ott leszek”.\nHa még bizonytalan vagy\, akkor jelöld be\, hogy “Érdekel”.\nA kóstoláson történő részvétel ingyenes.\n\n\n***** English disclaimer *****\nWe cannot guarantee a simultaneous English speaking guidance but we are happy to welcome our foreign friends and will discuss with them the coffee-facts on demand.
URL:https://archandbeans.com/esemeny/cupping-club-vezetett-kavekostolas-woc/
LOCATION:1088 Budapest\, Rákóczi út 5.\, Rákóczi út 5.\, Budapest\, 1088\, Magyarország
ATTACH;FMTTYPE=image/jpeg:https://archandbeans.com/wp-content/uploads/2023/06/CC.jpg
ORGANIZER;CN="Arch%26Beans%20K%C3%A1v%C3%A9m%C5%B1vek":MAILTO:info@archandbeans.com
END:VEVENT
END:VCALENDAR