BEGIN:VCALENDAR
VERSION:2.0
PRODID:-//Arch &amp; Beans - ECPv6.1.3//NONSGML v1.0//EN
CALSCALE:GREGORIAN
METHOD:PUBLISH
X-ORIGINAL-URL:https://archandbeans.com
X-WR-CALDESC:Events for Arch &amp; Beans
REFRESH-INTERVAL;VALUE=DURATION:PT1H
X-Robots-Tag:noindex
X-PUBLISHED-TTL:PT1H
BEGIN:VTIMEZONE
TZID:Europe/Helsinki
BEGIN:DAYLIGHT
TZOFFSETFROM:+0200
TZOFFSETTO:+0300
TZNAME:EEST
DTSTART:20230326T010000
END:DAYLIGHT
BEGIN:STANDARD
TZOFFSETFROM:+0300
TZOFFSETTO:+0200
TZNAME:EET
DTSTART:20231029T010000
END:STANDARD
END:VTIMEZONE
BEGIN:VEVENT
DTSTART;TZID=Europe/Helsinki:20231117T160000
DTEND;TZID=Europe/Helsinki:20231117T200000
DTSTAMP:20260420T105042
CREATED:20231019T142907Z
LAST-MODIFIED:20231019T142907Z
UID:5865-1700236800-1700251200@archandbeans.com
SUMMARY:Arch&Games Játékest
DESCRIPTION:<< For English text\, please scroll down. >>\n\n\nSziasztok!\n\n\nIsmét megrendezésre kerül társasozós játékestünk\, amelyre újfent nagy szeretettel várunk mindenkit!\n\nAkár egyedül térsz be hozzánk\, akár társasággal érkezel\, játékainkat szándékosan úgy válogattuk össze\, hogy lehetőség szerint kötetlenül\, bármikor\, bármelyikhez csatlakozhass.\nHa esetleg nem ismernéd a társasokat\, az sem baj; játékmestereink mindent elmagyaráznak\, segítenek eligazodni a szabályok között.\n\nAz esemény során a következő játékokkal várunk Benneteket:\n\nBang! kockajáték\nConcept\nCsótánypóker Royal\nDixit Odyssey\nDobble\nFedőnevek\nFedőnevek Képek\nFedőnevek Négyszemközt\nFunemployed: Seasonal Help (print and play edition)\nIgen?\nImagine\nJenga Classic\nPanic lab\nRobbanó Cicák\nSztorikocka Cselekvésekkel\nSztorikocka Kalandokkal\nTabu\n\n\nTovábbá\, amennyiben esetleg fogyasztanátok bármi finomságot\, akkor külön a társasjáték estekre szánt kedvezménnyel is kedveskedünk nektek!\nA belépés továbbra is\, mint mindig\, díjtalan! \n\n*\nHello Everyone!\n\nWe are happy to welcome you again at our tables!\n\nYou can come either alone or with company; we have deliberately chosen our games so that you can freely join any of them\, basically whenever you wish.\nIf you are not familiar with the games\, that is not a problem; our game masters will explain everything and help you find your way around the rules.\n\nAt our event you can find the following games:\n\nBang! The dice game\nCodenames\nCodenames Pictures\nCodenames Duet\nConcept\nCockroach Poker Royal\nDixit Odyssey\nDobble\nExploding Kittens\nFunemployed: Seasonal Help (print and play edition)\nIgen?\nImagine\nJenga Classic\nPanic lab\nStory Cubes – Actions\nStory Cubes – Voyages\nTabu\n\n\nFurthermore whenever you are looking for something tasty to consume\, we are offering a special discount for the players of the board game nights!\nThe entry is\, as always\, free! 
URL:https://archandbeans.com/esemeny/archgames-jatekest/
LOCATION:Arch&Beans Kávéművek\, Rákóczi út 5.\, Budapest\, 1088\, Magyarország
CATEGORIES:Társaság
ATTACH;FMTTYPE=image/jpeg:https://archandbeans.com/wp-content/uploads/2023/07/Jatkest.jpg
ORGANIZER;CN="Arch%26Beans%20K%C3%A1v%C3%A9m%C5%B1vek":MAILTO:info@archandbeans.com
END:VEVENT
END:VCALENDAR