BEGIN:VCALENDAR
VERSION:2.0
PRODID:-//Arch &amp; Beans - ECPv6.1.3//NONSGML v1.0//EN
CALSCALE:GREGORIAN
METHOD:PUBLISH
X-ORIGINAL-URL:https://archandbeans.com
X-WR-CALDESC:Events for Arch &amp; Beans
REFRESH-INTERVAL;VALUE=DURATION:PT1H
X-Robots-Tag:noindex
X-PUBLISHED-TTL:PT1H
BEGIN:VTIMEZONE
TZID:Europe/Helsinki
BEGIN:DAYLIGHT
TZOFFSETFROM:+0200
TZOFFSETTO:+0300
TZNAME:EEST
DTSTART:20230326T010000
END:DAYLIGHT
BEGIN:STANDARD
TZOFFSETFROM:+0300
TZOFFSETTO:+0200
TZNAME:EET
DTSTART:20231029T010000
END:STANDARD
END:VTIMEZONE
BEGIN:VEVENT
DTSTART;TZID=Europe/Helsinki:20231013T160000
DTEND;TZID=Europe/Helsinki:20231013T200000
DTSTAMP:20260420T105049
CREATED:20231005T180723Z
LAST-MODIFIED:20231005T180723Z
UID:5858-1697212800-1697227200@archandbeans.com
SUMMARY:Arch&Games - Társasozz és kávézz velünk!
DESCRIPTION:<< For English text\, please scroll down. >>\n\n\nSziasztok!\n\nOktóberben is megrendezésre kerül társasozós játékestünk\, amelyre újfent nagy szeretettel várunk mindenkit! 🍁 🍂\n\nAkár egyedül térsz be hozzánk\, akár társasággal érkezel\, játékainkat szándékosan úgy válogattuk össze\, hogy lehetőség szerint kötetlenül\, bármikor\, bármelyikhez csatlakozhass.\n\nHa esetleg nem ismernéd a társasokat\, az sem baj; játékmestereink mindent elmagyaráznak\, segítenek eligazodni a szabályok között.\n\n\nAz esemény során a következő játékokkal várunk Benneteket: \n\nBang! kockajáték\nConcept\nCsótánypóker Royal\nDixit Odyssey\nDobble\nFedőnevek\nFedőnevek Képek\nFedőnevek Négyszemközt\nIgen?\nJenga Classic\nPanic lab\nRobbanó Cicák\nFunemployed: Seasonal Help (print and play edition)\n\n\n\nTovábbá\, amennyiben esetleg fogyasztanátok bármi finomságot\, akkor külön a társasjáték estekre szánt kedvezménnyel is kedveskedünk nektek!\n\nA belépés továbbra is\, mint mindig\, díjtalan! \n\n\n***\n\nHello Everyone!\n\n\n\nWe are happy to welcome you again at our tables in October! 🍁 🍂\n\nYou can come either alone or with company; we have deliberately chosen our games so that you can freely join any of them\, basically whenever you wish.\n\nIf you are not familiar with the games\, that is not a problem; our game masters will explain everything and help you find your way around the rules.\n\n\nAt our event you can find the following games:\n\nBang! The dice game\nCodenames\nCodenames Pictures\nCodenames Duet\nConcept\nCockroach Poker Royal\nDixit Odyssey\nDobble\nExploding Kittens\nIgen?\nJenga Classic\nPanic lab\nFunemployed: Seasonal Help (print and play edition)\n\n\n\nFurthermore whenever you are looking for something tasty to consume\, we are offering a special discount for the players of the board game nights!\n\nThe entry is\, as always\, free!
URL:https://archandbeans.com/esemeny/archgames-tarsasozz-es-kavezz-velunk/
LOCATION:Arch&Beans Kávéművek\, Rákóczi út 5.\, Budapest\, 1088\, Magyarország
CATEGORIES:Társaság
ATTACH;FMTTYPE=image/jpeg:https://archandbeans.com/wp-content/uploads/2023/07/Jatkest.jpg
ORGANIZER;CN="Arch%26Beans%20K%C3%A1v%C3%A9m%C5%B1vek":MAILTO:info@archandbeans.com
END:VEVENT
BEGIN:VEVENT
DTSTART;TZID=Europe/Helsinki:20231015T100000
DTEND;TZID=Europe/Helsinki:20231015T120000
DTSTAMP:20260420T105049
CREATED:20230919T142550Z
LAST-MODIFIED:20230919T142550Z
UID:5844-1697364000-1697371200@archandbeans.com
SUMMARY:Cupping Club #12 - WOC #4 - vezetett kávékóstolás
DESCRIPTION:Még mindig World of Coffee Athens! Igen! De tényleg! Még mindig vannak kávéink Athénból!\n\nA zöld kávékat a végére hagytuk\, hogy frissen pörkölhessük őket a kóstolás előtt.\n\nA kávék listájával külön jelentkezünk majd… vagy nem\, mert meglepetés lesz \n\n*** A program rövid ismertetése ***\n10:00-10:30 Kóstolásra kerülő kávék őrlése\, az asztal előkészítése.\n10:30-11:00 Kávék felöntése\, kóstolása\, értékelése.\n11:00- Kötetlen beszélgetés.\n\n***** A kóstolás tervezett menete *****\n2 sorban kb. 10 tételt fogunk cuppingolni\, így biztosítva azt\, hogy egyrészről nagy számú mintát kóstolhassunk\, ugyanakkor mindenki kellő időben a csészéhez kerülhessen.\nA cupping csészékbe 12 g kávét mérünk\, melyet a filternél finomabbra őrlünk. Ezt követően a csészéket 200 g forró vízzel felöntjük.\n4 perc után megtörjük\, majd leszedjük a felöntés tetején képződő crust (kéreg) réteget.\nA kávé italokat 12 perc után kóstoljuk a következő módon: A cupping csészékhez elhelyezett kanállal mindenki a saját ivó csészéjébe meri az italt\, majd onnan szürcsölve vesszük a szánkba és ízleljük.\n\n***** Mit hozz? *****\nMindenképp hozz magadnak egy olyan csészét\, amiből könnyen tudsz szürcsölve inni kisebb mennyiségű folyadékot.\n\n***** Részvétel\, jelentkezés *****\nHa részt vennél az eseményen\, akkor jelöld be a Facebook-eseményünknél\, hogy “Ott leszek”.\nHa még bizonytalan vagy\, akkor jelöld be\, hogy “Érdekel”.\n\nA kóstoláson történő részvétel ingyenes.\n\n***** English disclaimer *****\nWe cannot guarantee a simultaneous English speaking guidance but we are happy to welcome our foreign friends and will discuss with them the coffee-facts on demand.
URL:https://archandbeans.com/esemeny/cupping-club-12-woc-4-vezetett-kavekostolas/
LOCATION:1088 Budapest\, Rákóczi út 5.\, Rákóczi út 5.\, Budapest\, 1088\, Magyarország
CATEGORIES:Cupping
ATTACH;FMTTYPE=image/jpeg:https://archandbeans.com/wp-content/uploads/2023/06/CC.jpg
END:VEVENT
END:VCALENDAR