BEGIN:VCALENDAR
VERSION:2.0
PRODID:-//Arch &amp; Beans - ECPv6.1.3//NONSGML v1.0//EN
CALSCALE:GREGORIAN
METHOD:PUBLISH
X-ORIGINAL-URL:https://archandbeans.com
X-WR-CALDESC:Events for Arch &amp; Beans
REFRESH-INTERVAL;VALUE=DURATION:PT1H
X-Robots-Tag:noindex
X-PUBLISHED-TTL:PT1H
BEGIN:VTIMEZONE
TZID:Europe/Helsinki
BEGIN:DAYLIGHT
TZOFFSETFROM:+0200
TZOFFSETTO:+0300
TZNAME:EEST
DTSTART:20230326T010000
END:DAYLIGHT
BEGIN:STANDARD
TZOFFSETFROM:+0300
TZOFFSETTO:+0200
TZNAME:EET
DTSTART:20231029T010000
END:STANDARD
END:VTIMEZONE
BEGIN:VEVENT
DTSTART;TZID=Europe/Helsinki:20231112T100000
DTEND;TZID=Europe/Helsinki:20231112T120000
DTSTAMP:20260420T110822
CREATED:20231019T142322Z
LAST-MODIFIED:20231019T142322Z
UID:5863-1699783200-1699790400@archandbeans.com
SUMMARY:Cupping Club #13 - Manhattan
DESCRIPTION:Első éves szülinapunkon a Manhattan Coffee Roasters izgalmas tételei kerülnek a csészékbe.\n\n\n#manhattancoffeeroasters\n\n\n*** A program rövid ismertetése ***\n10:00-10:30 Kóstolásra kerülő kávék őrlése\, az asztal előkészítése.\n10:30-11:00 Kávék felöntése\, kóstolása\, értékelése.\n11:00- Kötetlen beszélgetés.\n\n\n***** A kóstolás tervezett menete *****\n2 sorban kb. 10-12 tételt fogunk cuppingolni\, így biztosítva azt\, hogy egyrészről nagy számú mintát kóstolhassunk\, ugyanakkor mindenki kellő időben a csészéhez kerülhessen.\nA cupping csészékbe 12 g kávét mérünk\, melyet a filternél finomabbra őrlünk. Ezt követően a csészéket 200 g forró vízzel felöntjük.\n4 perc után megtörjük\, majd leszedjük a felöntés tetején képződő crust (kéreg) réteget.\nA kávé italokat 12 perc után kóstoljuk a következő módon: A cupping csészékhez elhelyezett kanállal mindenki a saját ivó csészéjébe meri az italt\, majd onnan szürcsölve vesszük a szánkba és ízleljük.\n\n\n***** Mit hozz? *****\nMindenképp hozz magadnak egy olyan csészét\, amiből könnyen tudsz szürcsölve inni kisebb mennyiségű folyadékot.\n\n\n***** Részvétel\, jelentkezés *****\nHa részt vennél az eseményen\, akkor jelöld be a Facebook-eseményünknél\, hogy “Ott leszek”.\nHa még bizonytalan vagy\, akkor jelöld be\, hogy “Érdekel”.\nA kóstoláson történő részvétel ingyenes.\n\n\n***** English disclaimer *****\nWe cannot guarantee a simultaneous English speaking guidance but we are happy to welcome our foreign friends and will discuss with them the coffee-facts on demand.
URL:https://archandbeans.com/esemeny/cupping-club-13-manhattan/
LOCATION:Arch&Beans Kávéművek\, Rákóczi út 5.\, Budapest\, 1088\, Magyarország
CATEGORIES:Cupping
ATTACH;FMTTYPE=image/jpeg:https://archandbeans.com/wp-content/uploads/2023/06/CC.jpg
END:VEVENT
BEGIN:VEVENT
DTSTART;TZID=Europe/Helsinki:20231117T160000
DTEND;TZID=Europe/Helsinki:20231117T200000
DTSTAMP:20260420T110822
CREATED:20231019T142907Z
LAST-MODIFIED:20231019T142907Z
UID:5865-1700236800-1700251200@archandbeans.com
SUMMARY:Arch&Games Játékest
DESCRIPTION:<< For English text\, please scroll down. >>\n\n\nSziasztok!\n\n\nIsmét megrendezésre kerül társasozós játékestünk\, amelyre újfent nagy szeretettel várunk mindenkit!\n\nAkár egyedül térsz be hozzánk\, akár társasággal érkezel\, játékainkat szándékosan úgy válogattuk össze\, hogy lehetőség szerint kötetlenül\, bármikor\, bármelyikhez csatlakozhass.\nHa esetleg nem ismernéd a társasokat\, az sem baj; játékmestereink mindent elmagyaráznak\, segítenek eligazodni a szabályok között.\n\nAz esemény során a következő játékokkal várunk Benneteket:\n\nBang! kockajáték\nConcept\nCsótánypóker Royal\nDixit Odyssey\nDobble\nFedőnevek\nFedőnevek Képek\nFedőnevek Négyszemközt\nFunemployed: Seasonal Help (print and play edition)\nIgen?\nImagine\nJenga Classic\nPanic lab\nRobbanó Cicák\nSztorikocka Cselekvésekkel\nSztorikocka Kalandokkal\nTabu\n\n\nTovábbá\, amennyiben esetleg fogyasztanátok bármi finomságot\, akkor külön a társasjáték estekre szánt kedvezménnyel is kedveskedünk nektek!\nA belépés továbbra is\, mint mindig\, díjtalan! \n\n*\nHello Everyone!\n\nWe are happy to welcome you again at our tables!\n\nYou can come either alone or with company; we have deliberately chosen our games so that you can freely join any of them\, basically whenever you wish.\nIf you are not familiar with the games\, that is not a problem; our game masters will explain everything and help you find your way around the rules.\n\nAt our event you can find the following games:\n\nBang! The dice game\nCodenames\nCodenames Pictures\nCodenames Duet\nConcept\nCockroach Poker Royal\nDixit Odyssey\nDobble\nExploding Kittens\nFunemployed: Seasonal Help (print and play edition)\nIgen?\nImagine\nJenga Classic\nPanic lab\nStory Cubes – Actions\nStory Cubes – Voyages\nTabu\n\n\nFurthermore whenever you are looking for something tasty to consume\, we are offering a special discount for the players of the board game nights!\nThe entry is\, as always\, free! 
URL:https://archandbeans.com/esemeny/archgames-jatekest/
LOCATION:Arch&Beans Kávéművek\, Rákóczi út 5.\, Budapest\, 1088\, Magyarország
CATEGORIES:Társaság
ATTACH;FMTTYPE=image/jpeg:https://archandbeans.com/wp-content/uploads/2023/07/Jatkest.jpg
ORGANIZER;CN="Arch%26Beans%20K%C3%A1v%C3%A9m%C5%B1vek":MAILTO:info@archandbeans.com
END:VEVENT
BEGIN:VEVENT
DTSTART;TZID=Europe/Helsinki:20231119T110000
DTEND;TZID=Europe/Helsinki:20231119T170000
DTSTAMP:20260420T110822
CREATED:20231019T143304Z
LAST-MODIFIED:20231019T143304Z
UID:5867-1700391600-1700413200@archandbeans.com
SUMMARY:Double Milk Challenge
DESCRIPTION:A verseny célja: kreatív tejes kávéital elkészítése Milbok Double Milk és Arch&Beans szemeskávé felhasználásával. \nMinél meglepőbb\, harmonikus\, de újító szemléletű italokat várunk\, melyek a kávét\, a tejet és a kreatív hozzáadott elemeket egyedi módon ötvözik újszerű ízvilág kialakításával.\nA tárgynyereményeken túl a nyertes ital egy hónapon át bekerül a kávézónk kínálatába a győztes nevével. \nNevezési díj: 10000 forint \nA verseny időpontja és helyszíne: 2023 november 19.\, vasárnap\, 11-óra\, Arch&Beans Kávéművek\, Astoria \nMaximum résztvevő: 12 fő \nNevezési határidő: november 5. A nevezési díj tartalmazza: 3l Milbok Double Milk gyakorlótejet és 250g Arch&Beans szemeskávét\, mely az aktuális kínálatunkból választható.\nA verseny menete: az italokat a helyszínen kell elkészíteniük a versenyzőknek páros megmérettetésben\, ki-ki felállásban. 6 + 3 selejtező kört követően az első három egyenként készíti el az italát és pontozással kerül ki a győztes. \nBiztosított eszközök: Kávégép\, őrlő\, víz\, kávékészítő eszközök. Minden másról a versenyzőnek kell gondoskodnia! \nA kreatív italok készítésének feltételei: Mennyiség: min 100g\, max 250g (térfogati megkötés nincs) Hideg és meleg italokkal egyaránt lehet pályázni. Az összetevők között szerepelnie kell minimum arányban: Milbok Double Milk min 50g\, kávé: min 20g. A kávé készülhet bármilyen módon. Az összetevők között szerepelhet alkoholos tartalmú ital is\, maximum 10g mennyiségben. Nem kizáró\, de kerülendő összetevők: bolti szirupok (saját készítést preferáljuk). Szintén előnyt élveznek az egész évben elkészíthető\, különösebb nehézség nélkül beszerezhető összetevőkből építkező italok. \nGyakorlás: a versenyzőknek igény szerint lehetőségük lesz a Meder Kreatív Műhelyben felállított Fiamma gépeken november 6-tól\, előre egyeztetett időpontokban gyakorolni.
URL:https://archandbeans.com/esemeny/double-milk-challenge/
LOCATION:Arch&Beans Kávéművek\, Rákóczi út 5.\, Budapest\, 1088\, Magyarország
CATEGORIES:Verseny
ATTACH;FMTTYPE=image/jpeg:https://archandbeans.com/wp-content/uploads/2023/10/verseny.jpg
ORGANIZER;CN="Arch%26Beans%20K%C3%A1v%C3%A9m%C5%B1vek":MAILTO:info@archandbeans.com
END:VEVENT
END:VCALENDAR